BEGIN:VCALENDAR
VERSION:2.0
PRODID:-//First Parish Congregational Church - ECPv6.15.18//NONSGML v1.0//EN
CALSCALE:GREGORIAN
METHOD:PUBLISH
X-WR-CALNAME:First Parish Congregational Church
X-ORIGINAL-URL:https://fpccwakefield.org
X-WR-CALDESC:Events for First Parish Congregational Church
REFRESH-INTERVAL;VALUE=DURATION:PT1H
X-Robots-Tag:noindex
X-PUBLISHED-TTL:PT1H
BEGIN:VTIMEZONE
TZID:America/New_York
BEGIN:DAYLIGHT
TZOFFSETFROM:-0500
TZOFFSETTO:-0400
TZNAME:EDT
DTSTART:20250309T070000
END:DAYLIGHT
BEGIN:STANDARD
TZOFFSETFROM:-0400
TZOFFSETTO:-0500
TZNAME:EST
DTSTART:20251102T060000
END:STANDARD
BEGIN:DAYLIGHT
TZOFFSETFROM:-0500
TZOFFSETTO:-0400
TZNAME:EDT
DTSTART:20260308T070000
END:DAYLIGHT
BEGIN:STANDARD
TZOFFSETFROM:-0400
TZOFFSETTO:-0500
TZNAME:EST
DTSTART:20261101T060000
END:STANDARD
BEGIN:DAYLIGHT
TZOFFSETFROM:-0500
TZOFFSETTO:-0400
TZNAME:EDT
DTSTART:20270314T070000
END:DAYLIGHT
BEGIN:STANDARD
TZOFFSETFROM:-0400
TZOFFSETTO:-0500
TZNAME:EST
DTSTART:20271107T060000
END:STANDARD
END:VTIMEZONE
BEGIN:VEVENT
DTSTART;TZID=America/New_York:20260706T090000
DTEND;TZID=America/New_York:20260706T120000
DTSTAMP:20260423T072711
CREATED:20260307T180641Z
LAST-MODIFIED:20260401T131847Z
UID:10000492-1783328400-1783339200@fpccwakefield.org
SUMMARY:Summer @ First Parish
DESCRIPTION:
URL:https://fpccwakefield.org/event/summer-first-parish/
ATTACH;FMTTYPE=image/png:https://fpccwakefield.org/wp-content/uploads/2026/03/STEAM-Summer-@-First-Parish.png
END:VEVENT
END:VCALENDAR